BEGIN:VCALENDAR
VERSION:2.0
PRODID:-//eventon.com NONSGML v1.0//EN
CALSCALE:GREGORIAN
METHOD:PUBLISH
BEGIN:VEVENT
UID:69e6a11e13b5d
DTSTAMP:20260420T215646Z
DTSTART:20260128T170000Z
DTEND:20260128T200000Z
LOCATION:Heimathafen Gerichtsstraße 2
SUMMARY:Public Next: Closing Event mit Charles Landry
DESCRIPTION:Open Innovation zwischen Verwaltung\,  Start Ups und Kreativwir
 tschaft. 09-13 Uhr: Teams und Coaches beenden und reviewen ihr Projekt &#82
 11; geschlossene Veranstaltung für Verwaltung &amp; Kreativwirtschaft Ab 1
 8 Uhr: Open Event für alle. Präsentation der Ergebnisse &amp; Impuls-Vor
 trag\,  anschließend Networking &amp; Snacks. Nach einem intensiven Projek
 tnachmittag präsentieren die Teilnehmenden ihre Ergebnisse aus[..]\nhttps:
 //heimathafen-wiesbaden.de/veranstaltungen/public-next-closing-event-mit-ch
 arles-landry/
URL:https://heimathafen-wiesbaden.de/veranstaltungen/public-next-closing-event-mit-charles-landry/
END:VEVENT
END:VCALENDAR